BEGIN:VCALENDAR
VERSION:2.0
PRODID:-//Peck Slip School P.S. 343 - ECPv6.14.0//NONSGML v1.0//EN
CALSCALE:GREGORIAN
METHOD:PUBLISH
X-ORIGINAL-URL:https://peckslip.org
X-WR-CALDESC:Events for Peck Slip School P.S. 343
REFRESH-INTERVAL;VALUE=DURATION:PT1H
X-Robots-Tag:noindex
X-PUBLISHED-TTL:PT1H
BEGIN:VTIMEZONE
TZID:America/Halifax
BEGIN:DAYLIGHT
TZOFFSETFROM:-0400
TZOFFSETTO:-0300
TZNAME:ADT
DTSTART:20220313T060000
END:DAYLIGHT
BEGIN:STANDARD
TZOFFSETFROM:-0300
TZOFFSETTO:-0400
TZNAME:AST
DTSTART:20221106T050000
END:STANDARD
END:VTIMEZONE
BEGIN:VEVENT
DTSTART;TZID=America/Halifax:20220607T080000
DTEND;TZID=America/Halifax:20220607T170000
DTSTAMP:20260422T064843
CREATED:20210727T183409Z
LAST-MODIFIED:20210727T183409Z
UID:10367-1654588800-1654621200@peckslip.org
SUMMARY:Students Not in Attendance
DESCRIPTION:Clerical Day.
URL:https://peckslip.org/event/students-not-in-attendance-3/
END:VEVENT
BEGIN:VEVENT
DTSTART;TZID=America/Halifax:20220608T090000
DTEND;TZID=America/Halifax:20220608T100000
DTSTAMP:20260422T064843
CREATED:20220311T143643Z
LAST-MODIFIED:20220407T184744Z
UID:10622-1654678800-1654682400@peckslip.org
SUMMARY:PTA General Meeting - Board Elections!
DESCRIPTION:
URL:https://peckslip.org/event/pta-general-meeting-43/
END:VEVENT
BEGIN:VEVENT
DTSTART;TZID=America/Halifax:20220609T080000
DTEND;TZID=America/Halifax:20220609T170000
DTSTAMP:20260422T064843
CREATED:20210727T183453Z
LAST-MODIFIED:20210727T183453Z
UID:10369-1654761600-1654794000@peckslip.org
SUMMARY:Students Not in Attendance
DESCRIPTION:Anniversary Day.
URL:https://peckslip.org/event/students-not-in-attendance-4/
END:VEVENT
BEGIN:VEVENT
DTSTART;TZID=America/Halifax:20220616T151500
DTEND;TZID=America/Halifax:20220616T163000
DTSTAMP:20260422T064843
CREATED:20211026T152239Z
LAST-MODIFIED:20211026T152239Z
UID:10473-1655392500-1655397000@peckslip.org
SUMMARY:SLT Meeting
DESCRIPTION:
URL:https://peckslip.org/event/slt-meeting-41/
END:VEVENT
BEGIN:VEVENT
DTSTART;TZID=America/Halifax:20220616T170000
DTEND;TZID=America/Halifax:20220616T190000
DTSTAMP:20260422T064843
CREATED:20220517T145441Z
LAST-MODIFIED:20220517T145441Z
UID:10690-1655398800-1655406000@peckslip.org
SUMMARY:5th Grade Moving Up Ceremony
DESCRIPTION:
URL:https://peckslip.org/event/5th-grade-moving-up-ceremony-4/
END:VEVENT
BEGIN:VEVENT
DTSTART;TZID=America/Halifax:20220617T080000
DTEND;TZID=America/Halifax:20220617T170000
DTSTAMP:20260422T064843
CREATED:20220322T144847Z
LAST-MODIFIED:20220517T150126Z
UID:10632-1655452800-1655485200@peckslip.org
SUMMARY:Summer Birthday Party and Grade Pride Day
DESCRIPTION:Wear your grade color today!\nPreK – Red\nK- Purple/Pink\n1- Green\n2- Blue\n3-Yellow\n4-Orange\n5- White\, or 5th Grade shirt
URL:https://peckslip.org/event/summer-birthday-party-3/
END:VEVENT
BEGIN:VEVENT
DTSTART;TZID=America/Halifax:20220620T080000
DTEND;TZID=America/Halifax:20220620T170000
DTSTAMP:20260422T064843
CREATED:20210727T183530Z
LAST-MODIFIED:20210727T183530Z
UID:10371-1655712000-1655744400@peckslip.org
SUMMARY:School Closed
DESCRIPTION:Juneteenth.
URL:https://peckslip.org/event/school-closed-28/
END:VEVENT
BEGIN:VEVENT
DTSTART;TZID=America/Halifax:20220621T083000
DTEND;TZID=America/Halifax:20220621T145000
DTSTAMP:20260422T064843
CREATED:20220517T145718Z
LAST-MODIFIED:20220517T145718Z
UID:10693-1655800200-1655823000@peckslip.org
SUMMARY:Pajama Day
DESCRIPTION:
URL:https://peckslip.org/event/pajama-day/
END:VEVENT
BEGIN:VEVENT
DTSTART;TZID=America/Halifax:20220622T083000
DTEND;TZID=America/Halifax:20220622T145000
DTSTAMP:20260422T064843
CREATED:20220517T145754Z
LAST-MODIFIED:20220517T145754Z
UID:10695-1655886600-1655909400@peckslip.org
SUMMARY:Hero Day
DESCRIPTION:
URL:https://peckslip.org/event/hero-day/
END:VEVENT
BEGIN:VEVENT
DTSTART;TZID=America/Halifax:20220623T083000
DTEND;TZID=America/Halifax:20220623T145000
DTSTAMP:20260422T064843
CREATED:20220517T145829Z
LAST-MODIFIED:20220517T145829Z
UID:10697-1655973000-1655995800@peckslip.org
SUMMARY:Crazy Sock Day
DESCRIPTION:
URL:https://peckslip.org/event/crazy-sock-day/
END:VEVENT
BEGIN:VEVENT
DTSTART;TZID=America/Halifax:20220623T090000
DTEND;TZID=America/Halifax:20220623T100000
DTSTAMP:20260422T064843
CREATED:20220506T172018Z
LAST-MODIFIED:20220616T202936Z
UID:10683-1655974800-1655978400@peckslip.org
SUMMARY:Morning with Maggie
DESCRIPTION:NEW DATE!
URL:https://peckslip.org/event/morning-with-maggie-4/
END:VEVENT
BEGIN:VEVENT
DTSTART;TZID=America/Halifax:20220624T083000
DTEND;TZID=America/Halifax:20220624T145000
DTSTAMP:20260422T064843
CREATED:20220517T145912Z
LAST-MODIFIED:20220517T150004Z
UID:10699-1656059400-1656082200@peckslip.org
SUMMARY:Peck Slip Gear Day
DESCRIPTION:If you don’t have Peck Slip gear\, wear anything blue or gray!
URL:https://peckslip.org/event/peck-slip-gear-day/
END:VEVENT
BEGIN:VEVENT
DTSTART;TZID=America/Halifax:20220627T080000
DTEND;TZID=America/Halifax:20220627T170000
DTSTAMP:20260422T064843
CREATED:20210727T183615Z
LAST-MODIFIED:20210727T184954Z
UID:10373-1656316800-1656349200@peckslip.org
SUMMARY:Last Day of School for Students
DESCRIPTION:
URL:https://peckslip.org/event/last-day-of-school-for-students/
END:VEVENT
END:VCALENDAR