BEGIN:VCALENDAR
VERSION:2.0
PRODID:-//Peck Slip School P.S. 343 - ECPv6.14.0//NONSGML v1.0//EN
CALSCALE:GREGORIAN
METHOD:PUBLISH
X-WR-CALNAME:Peck Slip School P.S. 343
X-ORIGINAL-URL:https://peckslip.org
X-WR-CALDESC:Events for Peck Slip School P.S. 343
REFRESH-INTERVAL;VALUE=DURATION:PT1H
X-Robots-Tag:noindex
X-PUBLISHED-TTL:PT1H
BEGIN:VTIMEZONE
TZID:America/Halifax
BEGIN:DAYLIGHT
TZOFFSETFROM:-0400
TZOFFSETTO:-0300
TZNAME:ADT
DTSTART:20260308T060000
END:DAYLIGHT
BEGIN:STANDARD
TZOFFSETFROM:-0300
TZOFFSETTO:-0400
TZNAME:AST
DTSTART:20261101T050000
END:STANDARD
END:VTIMEZONE
BEGIN:VEVENT
DTSTART;TZID=America/Halifax:20260428T080000
DTEND;TZID=America/Halifax:20260429T170000
DTSTAMP:20260425T115256
CREATED:20251107T141252Z
LAST-MODIFIED:20251107T141252Z
UID:12020-1777363200-1777482000@peckslip.org
SUMMARY:Math State Test - 3rd Grade
DESCRIPTION:
URL:https://peckslip.org/event/math-state-test-3rd-grade/
END:VEVENT
BEGIN:VEVENT
DTSTART;TZID=America/Halifax:20260428T083000
DTEND;TZID=America/Halifax:20260428T090000
DTSTAMP:20260425T115256
CREATED:20251023T173101Z
LAST-MODIFIED:20251023T173101Z
UID:11991-1777365000-1777366800@peckslip.org
SUMMARY:Coffee and Stories with Casey and Sarah
DESCRIPTION:
URL:https://peckslip.org/event/coffee-and-stories-with-casey-and-sarah-7/
END:VEVENT
BEGIN:VEVENT
DTSTART;TZID=America/Halifax:20260430T080000
DTEND;TZID=America/Halifax:20260501T170000
DTSTAMP:20260425T115256
CREATED:20251107T141342Z
LAST-MODIFIED:20251107T141342Z
UID:12022-1777536000-1777654800@peckslip.org
SUMMARY:Math State Test- 4th Grade
DESCRIPTION:
URL:https://peckslip.org/event/math-state-test-4th-grade/
END:VEVENT
END:VCALENDAR